{"text_format":"1","workbook":"xlsx","n_sheets":3,"sheets":["Data","Dump","Temp"],"not_rendered":{"charts":0,"images":3,"macros":1,"external_links":0,"defined_names":1,"comments":0,"pivot_tables":0},"unopened":[],"bounds":{"document_bytes":16777216,"sheet_cells":100000,"rows_first":2000,"rows_last":500,"rows_between":2000,"halvings":0,"cell_chars":16384,"cell_head_chars":4096},"cells_cut":0,"cells_raw":0,"read":"whole","date_system":"1900"}

{"sheet":"Data","index":0,"n_rows":2,"n_cols":12,"rows_kept":2,"cut":false,"hidden":false,"merged":[]}
["Position","Player","Opponent","GameResult","FantasyPoints","OppPts","Owner","Opponent","OppPlayer","Slot","Week","Join"]
[null,null,null,null,null,null,null,null,null,null,1,1]

{"sheet":"Dump","index":1,"n_rows":0,"n_cols":0,"rows_kept":0,"cut":false,"hidden":false,"merged":[[39,0,39,3],[0,0,0,99],[1,0,1,3],[14,0,14,3],[25,0,25,99],[26,0,26,3]]}

{"sheet":"Temp","index":2,"n_rows":31,"n_cols":10,"rows_kept":31,"cut":false,"hidden":false,"merged":[]}
[]
[{"$f":"Dump!A4","v":0},{"$f":"Dump!B4","v":0},{"$f":"Dump!C4","v":0},{"$f":"Dump!D4","v":0},{"$f":"Dump!E4","v":0},{"$f":"Dump!E29","v":0},{"$f":"Dump!$A$1","v":0},{"$f":"Dump!$A$26","v":0},{"$f":"B17","v":0},"QB"]
[{"$f":"Dump!A5","v":0},{"$f":"Dump!B5","v":0},{"$f":"Dump!C5","v":0},{"$f":"Dump!D5","v":0},{"$f":"Dump!E5","v":0},{"$f":"Dump!E30","v":0},{"$f":"Dump!$A$1","v":0},{"$f":"Dump!$A$26","v":0},{"$f":"B18","v":0},"RB1"]
[{"$f":"Dump!A6","v":0},{"$f":"Dump!B6","v":0},{"$f":"Dump!C6","v":0},{"$f":"Dump!D6","v":0},{"$f":"Dump!E6","v":0},{"$f":"Dump!E31","v":0},{"$f":"Dump!$A$1","v":0},{"$f":"Dump!$A$26","v":0},0,"RB2"]
[{"$f":"Dump!A7","v":0},{"$f":"Dump!B7","v":0},{"$f":"Dump!C7","v":0},{"$f":"Dump!D7","v":0},{"$f":"Dump!E7","v":0},{"$f":"Dump!E32","v":0},{"$f":"Dump!$A$1","v":0},{"$f":"Dump!$A$26","v":0},0,"WR1"]
[{"$f":"Dump!A8","v":0},{"$f":"Dump!B8","v":0},{"$f":"Dump!C8","v":0},{"$f":"Dump!D8","v":0},{"$f":"Dump!E8","v":0},{"$f":"Dump!E33","v":0},{"$f":"Dump!$A$1","v":0},{"$f":"Dump!$A$26","v":0},0,"WR2"]
[{"$f":"Dump!A9","v":0},{"$f":"Dump!B9","v":0},{"$f":"Dump!C9","v":0},{"$f":"Dump!D9","v":0},{"$f":"Dump!E9","v":0},{"$f":"Dump!E34","v":0},{"$f":"Dump!$A$1","v":0},{"$f":"Dump!$A$26","v":0},0,"TE"]
[{"$f":"Dump!A10","v":0},{"$f":"Dump!B10","v":0},{"$f":"Dump!C10","v":0},{"$f":"Dump!D10","v":0},{"$f":"Dump!E10","v":0},{"$f":"Dump!E35","v":0},{"$f":"Dump!$A$1","v":0},{"$f":"Dump!$A$26","v":0},0,"FLEX"]
[{"$f":"Dump!A11","v":0},{"$f":"Dump!B11","v":0},{"$f":"Dump!C11","v":0},{"$f":"Dump!D11","v":0},{"$f":"Dump!E11","v":0},{"$f":"Dump!E36","v":0},{"$f":"Dump!$A$1","v":0},{"$f":"Dump!$A$26","v":0},0,"D/ST"]
[{"$f":"Dump!A12","v":0},{"$f":"Dump!B12","v":0},{"$f":"Dump!C12","v":0},{"$f":"Dump!D12","v":0},{"$f":"Dump!E12","v":0},{"$f":"Dump!E37","v":0},{"$f":"Dump!$A$1","v":0},{"$f":"Dump!$A$26","v":0},0,"K"]
[{"$f":"Dump!A17","v":0},{"$f":"Dump!B17","v":0},{"$f":"Dump!C17","v":0},{"$f":"Dump!D17","v":0},{"$f":"Dump!E17","v":0},{"$f":"Dump!E42","v":0},{"$f":"Dump!$A$1","v":0},{"$f":"Dump!$A$26","v":0},0,"Bench"]
[{"$f":"Dump!A18","v":0},{"$f":"Dump!B18","v":0},{"$f":"Dump!C18","v":0},{"$f":"Dump!D18","v":0},{"$f":"Dump!E18","v":0},{"$f":"Dump!E43","v":0},{"$f":"Dump!$A$1","v":0},{"$f":"Dump!$A$26","v":0},0,"Bench"]
[{"$f":"Dump!A19","v":0},{"$f":"Dump!B19","v":0},{"$f":"Dump!C19","v":0},{"$f":"Dump!D19","v":0},{"$f":"Dump!E19","v":0},{"$f":"Dump!E44","v":0},{"$f":"Dump!$A$1","v":0},{"$f":"Dump!$A$26","v":0},0,"Bench"]
[{"$f":"Dump!A20","v":0},{"$f":"Dump!B20","v":0},{"$f":"Dump!C20","v":0},{"$f":"Dump!D20","v":0},{"$f":"Dump!E20","v":0},{"$f":"Dump!E45","v":0},{"$f":"Dump!$A$1","v":0},{"$f":"Dump!$A$26","v":0},0,"Bench"]
[{"$f":"Dump!A21","v":0},{"$f":"Dump!B21","v":0},{"$f":"Dump!C21","v":0},{"$f":"Dump!D21","v":0},{"$f":"Dump!E21","v":0},{"$f":"Dump!E46","v":0},{"$f":"Dump!$A$1","v":0},{"$f":"Dump!$A$26","v":0},0,"Bench"]
[{"$f":"Dump!A22","v":0},{"$f":"Dump!B22","v":0},{"$f":"Dump!C22","v":0},{"$f":"Dump!D22","v":0},{"$f":"Dump!E22","v":0},{"$f":"Dump!E47","v":0},{"$f":"Dump!$A$1","v":0},{"$f":"Dump!$A$26","v":0},0,"Bench"]
[{"$f":"Dump!A29","v":0},{"$f":"Dump!B29","v":0},{"$f":"Dump!C29","v":0},{"$f":"Dump!D29","v":0},{"$f":"Dump!E29","v":0},{"$f":"Dump!E4","v":0},{"$f":"Dump!$A$26","v":0},{"$f":"Dump!$A$1","v":0},{"$f":"B2","v":0},"QB"]
[{"$f":"Dump!A30","v":0},{"$f":"Dump!B30","v":0},{"$f":"Dump!C30","v":0},{"$f":"Dump!D30","v":0},{"$f":"Dump!E30","v":0},{"$f":"Dump!E5","v":0},{"$f":"Dump!$A$26","v":0},{"$f":"Dump!$A$1","v":0},{"$f":"B3","v":0},"RB1"]
[{"$f":"Dump!A31","v":0},{"$f":"Dump!B31","v":0},{"$f":"Dump!C31","v":0},{"$f":"Dump!D31","v":0},{"$f":"Dump!E31","v":0},{"$f":"Dump!E6","v":0},{"$f":"Dump!$A$26","v":0},{"$f":"Dump!$A$1","v":0},0,"RB2"]
[{"$f":"Dump!A32","v":0},{"$f":"Dump!B32","v":0},{"$f":"Dump!C32","v":0},{"$f":"Dump!D32","v":0},{"$f":"Dump!E32","v":0},{"$f":"Dump!E7","v":0},{"$f":"Dump!$A$26","v":0},{"$f":"Dump!$A$1","v":0},0,"WR1"]
[{"$f":"Dump!A33","v":0},{"$f":"Dump!B33","v":0},{"$f":"Dump!C33","v":0},{"$f":"Dump!D33","v":0},{"$f":"Dump!E33","v":0},{"$f":"Dump!E8","v":0},{"$f":"Dump!$A$26","v":0},{"$f":"Dump!$A$1","v":0},0,"WR2"]
[{"$f":"Dump!A34","v":0},{"$f":"Dump!B34","v":0},{"$f":"Dump!C34","v":0},{"$f":"Dump!D34","v":0},{"$f":"Dump!E34","v":0},{"$f":"Dump!E9","v":0},{"$f":"Dump!$A$26","v":0},{"$f":"Dump!$A$1","v":0},0,"TE"]
[{"$f":"Dump!A35","v":0},{"$f":"Dump!B35","v":0},{"$f":"Dump!C35","v":0},{"$f":"Dump!D35","v":0},{"$f":"Dump!E35","v":0},{"$f":"Dump!E10","v":0},{"$f":"Dump!$A$26","v":0},{"$f":"Dump!$A$1","v":0},0,"FLEX"]
[{"$f":"Dump!A36","v":0},{"$f":"Dump!B36","v":0},{"$f":"Dump!C36","v":0},{"$f":"Dump!D36","v":0},{"$f":"Dump!E36","v":0},{"$f":"Dump!E11","v":0},{"$f":"Dump!$A$26","v":0},{"$f":"Dump!$A$1","v":0},0,"D/ST"]
[{"$f":"Dump!A37","v":0},{"$f":"Dump!B37","v":0},{"$f":"Dump!C37","v":0},{"$f":"Dump!D37","v":0},{"$f":"Dump!E37","v":0},{"$f":"Dump!E12","v":0},{"$f":"Dump!$A$26","v":0},{"$f":"Dump!$A$1","v":0},0,"K"]
[{"$f":"Dump!A42","v":0},{"$f":"Dump!B42","v":0},{"$f":"Dump!C42","v":0},{"$f":"Dump!D42","v":0},{"$f":"Dump!E42","v":0},{"$f":"Dump!E17","v":0},{"$f":"Dump!$A$26","v":0},{"$f":"Dump!$A$1","v":0},0,"Bench"]
[{"$f":"Dump!A43","v":0},{"$f":"Dump!B43","v":0},{"$f":"Dump!C43","v":0},{"$f":"Dump!D43","v":0},{"$f":"Dump!E43","v":0},{"$f":"Dump!E18","v":0},{"$f":"Dump!$A$26","v":0},{"$f":"Dump!$A$1","v":0},0,"Bench"]
[{"$f":"Dump!A44","v":0},{"$f":"Dump!B44","v":0},{"$f":"Dump!C44","v":0},{"$f":"Dump!D44","v":0},{"$f":"Dump!E44","v":0},{"$f":"Dump!E19","v":0},{"$f":"Dump!$A$26","v":0},{"$f":"Dump!$A$1","v":0},0,"Bench"]
[{"$f":"Dump!A45","v":0},{"$f":"Dump!B45","v":0},{"$f":"Dump!C45","v":0},{"$f":"Dump!D45","v":0},{"$f":"Dump!E45","v":0},{"$f":"Dump!E20","v":0},{"$f":"Dump!$A$26","v":0},{"$f":"Dump!$A$1","v":0},0,"Bench"]
[{"$f":"Dump!A46","v":0},{"$f":"Dump!B46","v":0},{"$f":"Dump!C46","v":0},{"$f":"Dump!D46","v":0},{"$f":"Dump!E46","v":0},{"$f":"Dump!E21","v":0},{"$f":"Dump!$A$26","v":0},{"$f":"Dump!$A$1","v":0},0,"Bench"]
[{"$f":"Dump!A47","v":0},{"$f":"Dump!B47","v":0},{"$f":"Dump!C47","v":0},{"$f":"Dump!D47","v":0},{"$f":"Dump!E47","v":0},{"$f":"Dump!E22","v":0},{"$f":"Dump!$A$26","v":0},{"$f":"Dump!$A$1","v":0},0,"Bench"]